BEGIN:VCALENDAR
VERSION:2.0
PRODID:-//Seminarhaus Lebenslicht - ECPv6.15.20//NONSGML v1.0//EN
CALSCALE:GREGORIAN
METHOD:PUBLISH
X-ORIGINAL-URL:https://www.seminarhaus-lebenslicht.de
X-WR-CALDESC:Veranstaltungen für Seminarhaus Lebenslicht
REFRESH-INTERVAL;VALUE=DURATION:PT1H
X-Robots-Tag:noindex
X-PUBLISHED-TTL:PT1H
BEGIN:VTIMEZONE
TZID:Europe/Berlin
BEGIN:DAYLIGHT
TZOFFSETFROM:+0100
TZOFFSETTO:+0200
TZNAME:CEST
DTSTART:20230326T010000
END:DAYLIGHT
BEGIN:STANDARD
TZOFFSETFROM:+0200
TZOFFSETTO:+0100
TZNAME:CET
DTSTART:20231029T010000
END:STANDARD
BEGIN:DAYLIGHT
TZOFFSETFROM:+0100
TZOFFSETTO:+0200
TZNAME:CEST
DTSTART:20240331T010000
END:DAYLIGHT
BEGIN:STANDARD
TZOFFSETFROM:+0200
TZOFFSETTO:+0100
TZNAME:CET
DTSTART:20241027T010000
END:STANDARD
BEGIN:DAYLIGHT
TZOFFSETFROM:+0100
TZOFFSETTO:+0200
TZNAME:CEST
DTSTART:20250330T010000
END:DAYLIGHT
BEGIN:STANDARD
TZOFFSETFROM:+0200
TZOFFSETTO:+0100
TZNAME:CET
DTSTART:20251026T010000
END:STANDARD
BEGIN:DAYLIGHT
TZOFFSETFROM:+0100
TZOFFSETTO:+0200
TZNAME:CEST
DTSTART:20260329T010000
END:DAYLIGHT
BEGIN:STANDARD
TZOFFSETFROM:+0200
TZOFFSETTO:+0100
TZNAME:CET
DTSTART:20261025T010000
END:STANDARD
END:VTIMEZONE
BEGIN:VEVENT
DTSTART;TZID=Europe/Berlin:20250621T085759
DTEND;TZID=Europe/Berlin:20250621T085759
DTSTAMP:20260425T123556
CREATED:20241115T153518Z
LAST-MODIFIED:20250621T065759Z
UID:10000266-1750496279-1750496279@www.seminarhaus-lebenslicht.de
SUMMARY:Mittsommernacht
DESCRIPTION:
URL:https://www.seminarhaus-lebenslicht.de/veranstaltung/mittsommernacht/
LOCATION:Holle im Seminar Haus Lebenslicht\, Marktstr. 43\, Holle\, 31188\, Deutschland
END:VEVENT
BEGIN:VEVENT
DTSTART;TZID=Europe/Berlin:20241219T080000
DTEND;TZID=Europe/Berlin:20241219T080000
DTSTAMP:20260425T123556
CREATED:20240923T181858Z
LAST-MODIFIED:20260218T151103Z
UID:10000380-1734595200-1734595200@www.seminarhaus-lebenslicht.de
SUMMARY:Licht – Frauen – Kreis
DESCRIPTION:Licht-Frauen-Kreis  \nVon Herz zu Herz\, von Seele zu Seele \nDer Licht-Frauen-Kreis bietet Frauen einen besonderen Raum\, um anzukommen – im Herzen\, in der Seele und in der Gemeinschaft. In einer Atmosphäre von Stille und Liebe ermöglicht dieser Kreis\, das eigene innere Licht zu entdecken\, zu stärken und gemeinsam mit anderen Frauen im So-Sein zu strahlen. \nDie Treffen des Licht-Frauen-Kreises sind vielfältig und lebendig und finden in einem geschützten liebevoll gestalten Raum im Seminarhaus Lebenslicht\, an einem Sonntag in der Zeit von 11.00 h bis 15.00 h statt. \n\nMeditationen laden dazu ein\, die Verbindung zu sich selbst (Schöpferkraft) zu vertiefen.\nBewegung und Tanz helfen\, die Lebensfreude zu wecken und die Energie ins Fließen zu bringen.\nGebete und Rituale vertiefen Intentionen und schaffen Momente um in die gemeinsame Licht-Kraft einzutauchen.\n\nJedes Treffen steht unter einem wechselnden Thema\, das vorab bekannt gegeben wird. Die jeweiligen Inhalte und spirituellen Praktiken entstehen intuitiv daraus\, ergänzt durch stille Momente\, die Raum für Einkehr und Reflexion bieten. \nZeit für Begegnung und Austausch \nAuch der Austausch spielt eine wichtige Rolle. Während der Mittagszeit genießen die Teilnehmerinnen mitgebrachte vegetarische Köstlichkeiten und kommen miteinander ins Gespräch. Hierdurch entsteht ein Feld der Verbundenheit und eine kraftvolle Energie\, die jede Teilnehmerin stärkt und inspiriert. \nEin Kreis des So-Seins \nDer Licht-Frauen-Kreis schafft einen geschützten und liebevollen Rahmen\, in dem Frauen sich frei entfalten können um im Hier und Jetzt zu Sein. \nHerzlichen Willkommen im Kreis des Lichtes! \n\n\n  \n 
URL:https://www.seminarhaus-lebenslicht.de/veranstaltung/frauenkreis-2/2024-12-19/
LOCATION:Holle im Seminar Haus Lebenslicht\, Marktstr. 43\, Holle\, 31188\, Deutschland
CATEGORIES:Licht–Frauen–Kreis
ATTACH;FMTTYPE=image/webp:https://www.seminarhaus-lebenslicht.de/wp-content/uploads/2024/11/frauenkreis-1.webp
END:VEVENT
BEGIN:VEVENT
DTSTART;TZID=Europe/Berlin:20241108T190000
DTEND;TZID=Europe/Berlin:20241110T190000
DTSTAMP:20260425T123556
CREATED:20240714T110129Z
LAST-MODIFIED:20240908T115357Z
UID:10000231-1731092400-1731265200@www.seminarhaus-lebenslicht.de
SUMMARY:Praxis-Seminar: Psycho-Physiognomik und Heilen mit geometrischen Zeichen
DESCRIPTION:Das Wochenend-Seminar bildet drei Module\, die aufeinander aufbauen. \nTeil 1 am Freitagabend (19.00-21.00 h) Arbeit mit dem Tensor nach dem Prinzip der Resonanz. \nTeil 2 am Samstag (10.00-19.00 h): Grundkenntnisse der Psycho-Physiognomik und des Heilens mit geometrischen Zeichen. \nTeil 3 am Sonntag  (10.00-19.00 h): Anwenden der erlernten Kenntnisse aus der Psycho-Physiognomik in Verbindung mit den heilenden geometrischen Zeichen\, um Deine eigenen Seelenwünsche (Absicht) zu erkennen und zu unterstützen. \nFreitag und Samstag beschließen wir den Tag mit einem heilenden Feuerritual. \nEgal\, ob Du  Erfahrungen mit dem Tensor (Einhandrute) hast oder nicht\, ist dieses Praxis-Seminar bestimmt sehr interessant für Dich\, zumal am Freitag noch einmal eine Wiederholung im richtigen Umgang mit dem Tensor stattfindet. \nWas sind Heilzeichen? \nHeilzeichen stehen in direkter Verbindung mit Deiner Absicht bzw. Deiner Emotion und verändern das Schwingungsbild Deines Energiekörpers\, um ein Ungleichgewicht auszugleichen. Die Heilzeichen werden auf die Haut gezeichnet\, bzw. wird Wasser mit Deiner gewählten Absicht und den entsprechenden Zeichen informiert und getrunken\, um somit Deine Zellen mit der veränderten Heilschwingung zu informieren. Heilen mit Zeichen ist eine geniale Möglichkeit Blockaden aufzulösen\, wieder in die eigene Mitte zu kommen und das Leben nach den eigenen\, physiognomisch erkennbaren Wünschen (Seelenwünschen) zu gestalten. \nWas ist Psycho-Physiognomik? \nDie Psycho – Physiognomik lässt uns unsere Anlagen\, Talente\, seelischen Bedürfnisse und die versteckten Potentiale an unserer äußeren Form erkennen. Der Mensch zeigt uns durch seinen Körperbau und den einzelnen Ausdrucksarealen im Gesicht\, Kopfbau\, Stirn\, Nase\, Augen\, Ohren\, Mund\, etc. wie seine Seele sein Leben gestalten möchte – und Spannung\, Färbung sowie Strahlung des Gewebes geben Auskunft über den momentanen Energiezustand. \nDoch das Leben mit seinen vielfältigen Anforderungen und Erziehungsmustern\, angefangen in der häuslichen Umgebung\, im Kindergarten\, in der Schule\, im Beruf\, in Partnerschaften\, im sozialen Umfeld\, führen häufig zu Blockaden und Lebensweisen\, die kaum noch etwas mit unseren ursprünglichen Lebensvorstellungen zu tun haben. \nZiel ! \nAn diesem Wochenende lernst Du\, mit den Kenntnissen der Psycho – Physiognomik dich selbst noch einmal ganz neu kennen und du lernst\, wie Du mit dem Tensor (Einhandrute) Blockaden aufspüren kannst und mit Heilzeichen wieder in deine ursprüngliche\, ureigene Schwingungsenergie gelangen kannst. Du lernst außerdem\, wie Du mit Farben und Formen deine Grundenergie ausbalancieren und in Harmonie bringen kannst. \nZur Unterstützung Deiner Absichtserfüllung zu einem glücklichen und erfüllten Leben\, schließen wir den Tag mit einem kraftvollen und heilenden Feuerritual ab. \nDieses Wochenende kann ein Meilenstein Deiner persönlichen Entwicklung zu einem glücklichen und erfüllten Leben werden. \n………………………………………………………………………………………………………………………………………………………………………………………………………………………………………………………………………………………………………………………… \nWeitere Infos zum Seminar geben wir nach Deiner Anmeldung  ca. 1 Woche vor Seminarbeginn an Dich weiter. \nGemeinsam laben wir uns an den mitgebrachten vegetarischen Köstlichkeiten. Warme und kalte Getränke stehen immer zur Verfügung! ! \nFür unsere Planungssicherheit bitten wir Dich\, wenn Du Lust und Interesse hast\, um eine Teilnahmeanmeldung per Mail bis zum 30. Oktober 24!  an info@jochen-gursch.de .  Lieben Dank 🙂 ! \nMax. 16 TeilnehmerInnen \nSeminarleitung: \nJochen Gursch: Heilen mit Zeichen    und      Ingrid Warwas:  Psycho – Physiognomik \nOrt: Seminarhaus Lebenslicht und im Garten in: 31188 Holle\, Marktstraße 43 \nEnergieausgleich: 300€
URL:https://www.seminarhaus-lebenslicht.de/veranstaltung/praxisseminar-heilen-mit-geometrischen-zeichen-u-v-m/
LOCATION:Holle im Seminar Haus Lebenslicht\, Marktstr. 43\, Holle\, 31188\, Deutschland
END:VEVENT
BEGIN:VEVENT
DTSTART;TZID=Europe/Berlin:20240811T150000
DTEND;TZID=Europe/Berlin:20240811T220000
DTSTAMP:20260425T123556
CREATED:20231128T152419Z
LAST-MODIFIED:20251105T094601Z
UID:10000207-1723388400-1723413600@www.seminarhaus-lebenslicht.de
SUMMARY:Gartenfest „Pacha Mama“
DESCRIPTION:Wir wollen Mutter Erde und der Natur eine Wertschätzung erweisen. Pacha Mama bedeutet „ die Fruchtbarkeit des Bodens“. Sie ist die Schöpferin des Lebens. In dem dualen Prinzip der Schöpfung kann sie aber auch zerstörerisch wirken\, z.B. durch Dürren\, Überschwemmungen und Erdrutsche. Pacha Mama hatte \, so glaubt man\, die Macht\, die Elemente der Natur\, Erde\, Wasser\, Luft und Feuer\, zu kontrollieren.\nIn unserem Naturgarten schenken wir gemeinsam unserer Mutter Erde eine Pacha Mama-Zeremonie für ihre Heilung (Transformation) und für ihre Harmonie (Goldene Schnitt)\, die sie uns\, den Kindern der Erde\, zuteilwerden lässt.\nGemeinsam laben wir uns an den mitgebrachten vegetarischen Köstlichkeiten. Am Ende des Rituals schließen wir mit dem rituellen Feuer ab\, indem wir unsere Geschenke der Mutter Erde\, dem Feuergeist übergeben. Wir werden beten\, singen und tanzen\, damit das Licht in uns zu einer Lichtsäule wird\, um den Frieden und die Liebe auf dieser Welt zu verstärken. \n 
URL:https://www.seminarhaus-lebenslicht.de/veranstaltung/gartenfest-pacha-mama/2024-08-11/
LOCATION:Holle im Seminar Haus Lebenslicht\, Marktstr. 43\, Holle\, 31188\, Deutschland
CATEGORIES:Feste und Feiern
ATTACH;FMTTYPE=image/jpeg:https://www.seminarhaus-lebenslicht.de/wp-content/uploads/2023/11/Ritual-Pacha-Mama.jpg
END:VEVENT
END:VCALENDAR