BEGIN:VCALENDAR
VERSION:2.0
PRODID:-//Seminarhaus Lebenslicht - ECPv6.15.20//NONSGML v1.0//EN
CALSCALE:GREGORIAN
METHOD:PUBLISH
X-ORIGINAL-URL:https://www.seminarhaus-lebenslicht.de
X-WR-CALDESC:Veranstaltungen für Seminarhaus Lebenslicht
REFRESH-INTERVAL;VALUE=DURATION:PT1H
X-Robots-Tag:noindex
X-PUBLISHED-TTL:PT1H
BEGIN:VTIMEZONE
TZID:Europe/Berlin
BEGIN:DAYLIGHT
TZOFFSETFROM:+0100
TZOFFSETTO:+0200
TZNAME:CEST
DTSTART:20250330T010000
END:DAYLIGHT
BEGIN:STANDARD
TZOFFSETFROM:+0200
TZOFFSETTO:+0100
TZNAME:CET
DTSTART:20251026T010000
END:STANDARD
BEGIN:DAYLIGHT
TZOFFSETFROM:+0100
TZOFFSETTO:+0200
TZNAME:CEST
DTSTART:20260329T010000
END:DAYLIGHT
BEGIN:STANDARD
TZOFFSETFROM:+0200
TZOFFSETTO:+0100
TZNAME:CET
DTSTART:20261025T010000
END:STANDARD
BEGIN:DAYLIGHT
TZOFFSETFROM:+0100
TZOFFSETTO:+0200
TZNAME:CEST
DTSTART:20270328T010000
END:DAYLIGHT
BEGIN:STANDARD
TZOFFSETFROM:+0200
TZOFFSETTO:+0100
TZNAME:CET
DTSTART:20271031T010000
END:STANDARD
END:VTIMEZONE
BEGIN:VEVENT
DTSTART;TZID=Europe/Berlin:20260805T190000
DTEND;TZID=Europe/Berlin:20260805T210000
DTSTAMP:20260420T202058
CREATED:20241124T102644Z
LAST-MODIFIED:20260417T153944Z
UID:10000369-1785956400-1785963600@www.seminarhaus-lebenslicht.de
SUMMARY:Heilmeditation (offene Veranstaltung)
DESCRIPTION:Dauer: ca. 2 Std. \nIm Seminarhaus Lebenslicht beginnt die Heilmeditation mit einem Vortrag zu einem zentralen Lebensthema\, das den Rahmen für die Meditation setzt. Wilhelmine und Jochen leiten die Teilnehmer durch eine angeleitete Meditation\, in der der Vortrag praktisch erfahrbar wird. Im Anschluss führen die Teilnehmer die Meditation individuell im Sitzen oder Stehen mit kraftvoller Musik fort\, um die inneren Kräfte zu stärken und die Wirkung der Meditation zu vertiefen. \nIn einem geschützten Raum für Meditation entsteht oft eine Atmosphäre\, die tiefe Einsichten und mentale Heilung ermöglicht. Die Heilmeditation ist ein wirkungsvoller Weg\, die eigenen Selbstheilungskräfte zu aktivieren\, das Gleichgewicht von Körper\, Geist und Seele zu fördern und einen liebevollen Zugang zu sich selbst zu finden. Der innere Dialog entwickelt sich während der Meditation zu einem „Stillen Inneren Raum“\, der inneren Frieden und Liebe erfahrbar macht. Unterstützung findet man dabei durch die Geistige Welt\, der Schöpferkraft\, der Demut und dem Glauben an das Große Ganze. \nDie Heilmeditation im Seminarhaus Lebenslicht ist keine schulmedizinischen Heilbehandlungen und ist kein Ersatz für eine ärztliche Diagnose bzw. Therapie. Als Mitglied des Dachverbandes Geistiges Heilen e.V. richten sich Jochens Aktivitäten nach dem Verhaltens-/Ethik-Kodex des Verbandes. \nInnere Haltung: Eine offene und aufrechte Haltung ist für die Wirkung der Meditation essenziell. \nThemenbeispiele: Neubeginn\, Kommunikation\, Intuition\, Transformation\, Achtsamkeit\, Vergebung\, Leben im Jetzt\, Liebe und mehr. \nMitbringen: Decke\, warme Socken\, Offenheit und gute Laune. \nHinweis: Die Heilmeditation kann auch auf Anfrage an anderen Orten stattfinden. Bei Interesse gerne telefonisch melden.
URL:https://www.seminarhaus-lebenslicht.de/veranstaltung/heilmeditation-offene-veranstaltung/2026-08-05/
LOCATION:Holle im Seminar Haus Lebenslicht\, Marktstr. 43\, Holle\, 31188\, Deutschland
CATEGORIES:Heilmeditation mit Jochen und Wilhelmine
ATTACH;FMTTYPE=image/jpeg:https://www.seminarhaus-lebenslicht.de/wp-content/uploads/2023/01/Seminarraum-Medi.jpg
END:VEVENT
BEGIN:VEVENT
DTSTART;TZID=Europe/Berlin:20260808T150000
DTEND;TZID=Europe/Berlin:20260808T220000
DTSTAMP:20260420T202058
CREATED:20231128T152419Z
LAST-MODIFIED:20251105T094601Z
UID:10000351-1786201200-1786226400@www.seminarhaus-lebenslicht.de
SUMMARY:Gartenfest „Pacha Mama“
DESCRIPTION:Wir wollen Mutter Erde und der Natur eine Wertschätzung erweisen. Pacha Mama bedeutet „ die Fruchtbarkeit des Bodens“. Sie ist die Schöpferin des Lebens. In dem dualen Prinzip der Schöpfung kann sie aber auch zerstörerisch wirken\, z.B. durch Dürren\, Überschwemmungen und Erdrutsche. Pacha Mama hatte \, so glaubt man\, die Macht\, die Elemente der Natur\, Erde\, Wasser\, Luft und Feuer\, zu kontrollieren.\nIn unserem Naturgarten schenken wir gemeinsam unserer Mutter Erde eine Pacha Mama-Zeremonie für ihre Heilung (Transformation) und für ihre Harmonie (Goldene Schnitt)\, die sie uns\, den Kindern der Erde\, zuteilwerden lässt.\nGemeinsam laben wir uns an den mitgebrachten vegetarischen Köstlichkeiten. Am Ende des Rituals schließen wir mit dem rituellen Feuer ab\, indem wir unsere Geschenke der Mutter Erde\, dem Feuergeist übergeben. Wir werden beten\, singen und tanzen\, damit das Licht in uns zu einer Lichtsäule wird\, um den Frieden und die Liebe auf dieser Welt zu verstärken. \n 
URL:https://www.seminarhaus-lebenslicht.de/veranstaltung/gartenfest-pacha-mama/2026-08-08/
LOCATION:Holle im Seminar Haus Lebenslicht\, Marktstr. 43\, Holle\, 31188\, Deutschland
CATEGORIES:Feste und Feiern
ATTACH;FMTTYPE=image/jpeg:https://www.seminarhaus-lebenslicht.de/wp-content/uploads/2023/11/Ritual-Pacha-Mama.jpg
END:VEVENT
END:VCALENDAR